BEGIN:VCALENDAR
VERSION:2.0
PRODID:-//International Ergonomics Association
CALSCALE:GREGORIAN
METHOD:PUBLISH
X-WR-CALNAME:International Ergonomics Association
X-ORIGINAL-URL:https://iea.cc/event/annual-meeting-of-the-indian-society-of-ergonomics-hwwe2020/
X-WR-CALDESC:Annual Meeting of the Indian Society of Ergonomics, HWWE2020
BEGIN:VEVENT
DTSTART:20201110T000000
DTEND:20201212T000000
SUMMARY:Annual Meeting of the Indian Society of Ergonomics, HWWE2020
DESCRIPTION:
LOCATION:
END:VEVENT
END:VCALENDAR
