BEGIN:VCALENDAR
VERSION:2.0
PRODID:-//International Ergonomics Association
CALSCALE:GREGORIAN
METHOD:PUBLISH
X-WR-CALNAME:International Ergonomics Association
X-ORIGINAL-URL:https://iea.cc/event/the-future-of-work-and-the-challenges-for-hfe-from-brazil/
X-WR-CALDESC:The future of work and the challenges for HFE from Brazil
BEGIN:VEVENT
DTSTART:20231031T000000
DTEND:20231031T000000
SUMMARY:The future of work and the challenges for HFE from Brazil
DESCRIPTION:
LOCATION:
END:VEVENT
END:VCALENDAR
