BEGIN:VCALENDAR
VERSION:2.0
PRODID:-//International Ergonomics Association
CALSCALE:GREGORIAN
METHOD:PUBLISH
X-WR-CALNAME:International Ergonomics Association
X-ORIGINAL-URL:https://iea.cc/event/ergonomics-and-human-factors-in-the-informal-work-sector/
X-WR-CALDESC:Ergonomics and Human Factors in the Informal Work Sector
BEGIN:VEVENT
DTSTART:20240718T130000
DTEND:20240718T143000
SUMMARY:Ergonomics and Human Factors in the Informal Work Sector
DESCRIPTION:
LOCATION:
END:VEVENT
END:VCALENDAR
