BEGIN:VCALENDAR
VERSION:2.0
PRODID:-//International Ergonomics Association
CALSCALE:GREGORIAN
METHOD:PUBLISH
X-WR-CALNAME:International Ergonomics Association
X-ORIGINAL-URL:https://iea.cc/event/informal-work-in-peru-and-colombia-status-perspectives-and-challenges-in-ergonomics/
X-WR-CALDESC:Informal Work in Peru and Colombia: Status, Perspectives and Challenges in Ergonomics
BEGIN:VEVENT
DTSTART:20250430T000000
DTEND:20250430T000000
SUMMARY:Informal Work in Peru and Colombia: Status, Perspectives and Challenges in Ergonomics
DESCRIPTION:
LOCATION:
END:VEVENT
END:VCALENDAR
