BEGIN:VCALENDAR
VERSION:2.0
PRODID:-//International Ergonomics Association
CALSCALE:GREGORIAN
METHOD:PUBLISH
X-WR-CALNAME:International Ergonomics Association
X-ORIGINAL-URL:https://iea.cc/event/wmsds-in-high-risk-occupations-cross-national-insights-from-manufacturing-construction-and-handicraft-industries-in-asia/
X-WR-CALDESC:WMSDs in High-Risk Occupations: Cross-National Insights from Manufacturing, Construction, and Handicraft Industries in Asia
BEGIN:VEVENT
DTSTART:20251120T000000
DTEND:20251120T000000
SUMMARY:WMSDs in High-Risk Occupations: Cross-National Insights from Manufacturing, Construction, and Handicraft Industries in Asia
DESCRIPTION:
LOCATION:
END:VEVENT
END:VCALENDAR
