BEGIN:VCALENDAR
VERSION:2.0
PRODID:-//International Ergonomics Association
CALSCALE:GREGORIAN
METHOD:PUBLISH
X-WR-CALNAME:International Ergonomics Association
X-ORIGINAL-URL:https://iea.cc/event/the-11th-international-ergonomics-conference-ergonomics-2026/
X-WR-CALDESC:The 11th International Ergonomics Conference – Ergonomics 2026
BEGIN:VEVENT
DTSTART:20261001T000000
DTEND:20261003T000000
SUMMARY:The 11th International Ergonomics Conference – Ergonomics 2026
DESCRIPTION:
LOCATION:Dubrovnik, Croatia
END:VEVENT
END:VCALENDAR
