BEGIN:VCALENDAR
VERSION:2.0
PRODID:-//International Ergonomics Association
CALSCALE:GREGORIAN
METHOD:PUBLISH
X-WR-CALNAME:International Ergonomics Association
X-ORIGINAL-URL:https://iea.cc/event/humanizing-work-and-work-environment-hwwe-2026/
X-WR-CALDESC:Humanizing Work and Work Environment (HWWE) 2026
BEGIN:VEVENT
DTSTART:20261209T000000
DTEND:20261211T000000
SUMMARY:Humanizing Work and Work Environment (HWWE) 2026
DESCRIPTION:
LOCATION:Dehradun, Uttarakhand, India
END:VEVENT
END:VCALENDAR
