BEGIN:VCALENDAR
VERSION:2.0
PRODID:-//International Ergonomics Association
CALSCALE:GREGORIAN
METHOD:PUBLISH
X-WR-CALNAME:International Ergonomics Association
X-ORIGINAL-URL:https://iea.cc/event/assessing-physical-risks-of-young-workers-in-agriculture-special-groups-need-special-methods/
X-WR-CALDESC:Assessing Physical Risks Of Young Workers In Agriculture: Special Groups Need Special Methods
BEGIN:VEVENT
DTSTART:20260528T000000
DTEND:20260528T000000
SUMMARY:Assessing Physical Risks Of Young Workers In Agriculture: Special Groups Need Special Methods
DESCRIPTION:
LOCATION:
END:VEVENT
END:VCALENDAR
